BEGIN:VCALENDAR
VERSION:2.0
PRODID:-//The Man Church - ECPv6.2.6.1//NONSGML v1.0//EN
CALSCALE:GREGORIAN
METHOD:PUBLISH
X-WR-CALNAME:The Man Church
X-ORIGINAL-URL:https://www.themanchurch.com
X-WR-CALDESC:Events for The Man Church
REFRESH-INTERVAL;VALUE=DURATION:PT1H
X-Robots-Tag:noindex
X-PUBLISHED-TTL:PT1H
BEGIN:VTIMEZONE
TZID:UTC
BEGIN:STANDARD
TZOFFSETFROM:+0000
TZOFFSETTO:+0000
TZNAME:UTC
DTSTART:20260101T000000
END:STANDARD
END:VTIMEZONE
BEGIN:VEVENT
DTSTART;TZID=UTC:20260315T170000
DTEND;TZID=UTC:20260315T193000
DTSTAMP:20260426T014457
CREATED:20260115T171726Z
LAST-MODIFIED:20260115T173106Z
UID:3014-1773594000-1773603000@www.themanchurch.com
SUMMARY:Man Church - Bethel Baptist Church\, Anderson\, AL - Jordan Erwin
DESCRIPTION:Event Time: 5 PM; food will be provided and they will eat first. Worship and The Man Church Speaker\, Jordan Erwin\, to follow.
URL:https://www.themanchurch.com/event/man-church-bethel-baptist-church-anderson-al-jordan-erwin/
LOCATION:Bethel Baptist Church\, 12430 Highway 207\, Anderson\, AL\, 35610\, United States
END:VEVENT
END:VCALENDAR