BEGIN:VCALENDAR
VERSION:2.0
PRODID:-//The Man Church - ECPv6.2.6.1//NONSGML v1.0//EN
CALSCALE:GREGORIAN
METHOD:PUBLISH
X-WR-CALNAME:The Man Church
X-ORIGINAL-URL:https://www.themanchurch.com
X-WR-CALDESC:Events for The Man Church
REFRESH-INTERVAL;VALUE=DURATION:PT1H
X-Robots-Tag:noindex
X-PUBLISHED-TTL:PT1H
BEGIN:VTIMEZONE
TZID:UTC
BEGIN:STANDARD
TZOFFSETFROM:+0000
TZOFFSETTO:+0000
TZNAME:UTC
DTSTART:20260101T000000
END:STANDARD
END:VTIMEZONE
BEGIN:VEVENT
DTSTART;TZID=UTC:20260203T063000
DTEND;TZID=UTC:20260203T080000
DTSTAMP:20260426T002016
CREATED:20260129T110851Z
LAST-MODIFIED:20260129T110851Z
UID:3021-1770100200-1770105600@www.themanchurch.com
SUMMARY:Men's Breakfast - First Baptist Lafayette\, Mangham\, LA - Todd Jones
DESCRIPTION:Todd will share stories from his baseball career and his faith journey. Don’t miss it! Tickets are $10.00 each. Bring a friend with you!
URL:https://www.themanchurch.com/event/mens-breakfast-first-baptist-lafayette-mangham-la/
LOCATION:First Baptist Lafayette\, Lafayette Campus\, 1100 Lee Ave\, Lafayette\, 70501\, United States
END:VEVENT
BEGIN:VEVENT
DTSTART;TZID=UTC:20260207T000000
DTEND;TZID=UTC:20260208T000000
DTSTAMP:20260426T002016
CREATED:20250924T163928Z
LAST-MODIFIED:20250924T163928Z
UID:2934-1770422400-1770508800@www.themanchurch.com
SUMMARY:Marriage Conference with Rick & Sherri Burgess at Rincon Church of God in Rincon\, GA
DESCRIPTION:
URL:https://www.themanchurch.com/event/marriage-conference-withrick-sherri-burgess-rincon-church-of-god-in-rincon-ga/
LOCATION:Rincon Church of God\, 3430 GA Hwy 21 South\, Rincon\, GA\, 31326\, United States
END:VEVENT
BEGIN:VEVENT
DTSTART;TZID=UTC:20260207T170000
DTEND;TZID=UTC:20260207T200000
DTSTAMP:20260426T002016
CREATED:20260115T112046Z
LAST-MODIFIED:20260115T112046Z
UID:3012-1770483600-1770494400@www.themanchurch.com
SUMMARY:Man Church - Southside Baptist Church\, Hazlehurst\, GA - Steven Wright
DESCRIPTION:Meal at 5pm\, Worship at 6pm. Free event.  Please call the church office and reserve so they’ll have an idea on food amounts 912-375-3315
URL:https://www.themanchurch.com/event/man-church-southside-baptist-church-hazlehurst-ga-steven-wright/
LOCATION:Southside Baptist Church\, 91 S Cromartie Street\, Hazlehurst\, GA\, 31539\, United States
END:VEVENT
BEGIN:VEVENT
DTSTART;TZID=UTC:20260217T180000
DTEND;TZID=UTC:20260217T180000
DTSTAMP:20260426T002016
CREATED:20260106T213444Z
LAST-MODIFIED:20260106T213636Z
UID:3004-1771351200-1771351200@www.themanchurch.com
SUMMARY:Man Church - First Methodist Church of Tallassee\, Tallassee\, AL - Kirkwood Bullis
DESCRIPTION:This will be a kickoff service where men will have the opportunity to sign up for small groups.
URL:https://www.themanchurch.com/event/man-church-first-methodist-church-of-tallassee-tallassee-al-kirkwood-bullis/
LOCATION:First Methodist Church of Tallassee\, 1 Jordan Ave\, Tallassee\, AL\, 36078\, United States
END:VEVENT
BEGIN:VEVENT
DTSTART;TZID=UTC:20260221T170000
DTEND;TZID=UTC:20260221T170000
DTSTAMP:20260426T002016
CREATED:20251020T154505Z
LAST-MODIFIED:20260209T115308Z
UID:2960-1771693200-1771693200@www.themanchurch.com
SUMMARY:Man Church - Central Baptist Church\, Martin \, TN - Rick Burgess
DESCRIPTION:
URL:https://www.themanchurch.com/event/man-church-central-baptist-church-martin-tn-rick-burgess/
LOCATION:Central Baptist Church\, 801 Harrison Road\, Martin\, TN\, 38237\, United States
END:VEVENT
BEGIN:VEVENT
DTSTART;TZID=UTC:20260222T170000
DTEND;TZID=UTC:20260222T170000
DTSTAMP:20260426T002016
CREATED:20260216T105806Z
LAST-MODIFIED:20260216T105943Z
UID:3042-1771779600-1771779600@www.themanchurch.com
SUMMARY:Man Church - First Baptist Church of Tuscaloosa\, Tuscaloosa\, AL - Steadman Shealy
DESCRIPTION:Calling all men\, invite men of all ages to join you for a meal\, worship and a message from Steadman Shealy! Doors to Wells Fellowship Hall open at 5pm\, free supper with worship and a message following at 6pm
URL:https://www.themanchurch.com/event/man-churchfirst-baptist-church-of-tuscaloosa-tuscaloosa-al-steadman-shealy/
LOCATION:First Baptist Church of Tuscaloosa\, 721 Greensboro Ave\, Tuscaloosa\, AL\, 35401\, United States
END:VEVENT
BEGIN:VEVENT
DTSTART;TZID=UTC:20260228T170000
DTEND;TZID=UTC:20260228T170000
DTSTAMP:20260426T002016
CREATED:20251020T155127Z
LAST-MODIFIED:20251020T155127Z
UID:2962-1772298000-1772298000@www.themanchurch.com
SUMMARY:Man Church - Wacissa Christian Church\, Monticello \, FL - Rick Burgess
DESCRIPTION:
URL:https://www.themanchurch.com/event/man-church-wacissa-christian-church-monticello-fl-rick-burgess/
LOCATION:Wacissa Christian Church\, 14492 Waukeenah HWY\, Monticello\, FL\, 32344\, United States
END:VEVENT
END:VCALENDAR