BEGIN:VCALENDAR
VERSION:2.0
PRODID:-//The Man Church - ECPv6.2.6.1//NONSGML v1.0//EN
CALSCALE:GREGORIAN
METHOD:PUBLISH
X-WR-CALNAME:The Man Church
X-ORIGINAL-URL:https://www.themanchurch.com
X-WR-CALDESC:Events for The Man Church
REFRESH-INTERVAL;VALUE=DURATION:PT1H
X-Robots-Tag:noindex
X-PUBLISHED-TTL:PT1H
BEGIN:VTIMEZONE
TZID:UTC
BEGIN:STANDARD
TZOFFSETFROM:+0000
TZOFFSETTO:+0000
TZNAME:UTC
DTSTART:20250101T000000
END:STANDARD
END:VTIMEZONE
BEGIN:VEVENT
DTSTART;TZID=UTC:20251108T090000
DTEND;TZID=UTC:20251108T133000
DTSTAMP:20260425T200224
CREATED:20251020T094501Z
LAST-MODIFIED:20251020T094737Z
UID:2951-1762592400-1762608600@www.themanchurch.com
SUMMARY:Men of Calvary Conference with Andrew Varvoutis at Calvary Baptist Church in Yankton\, SD
DESCRIPTION:
URL:https://www.themanchurch.com/event/men-of-calvary-conference-with-andrew-varboutis-at-calvary-baptist-church-in-yankton-sd/
LOCATION:Calvary Baptist Church\, 2407 Broadway\, Yankton\, SD\, 57078\, United States
END:VEVENT
BEGIN:VEVENT
DTSTART;TZID=UTC:20251109T170000
DTEND;TZID=UTC:20251109T170000
DTSTAMP:20260425T200224
CREATED:20250908T164932Z
LAST-MODIFIED:20250908T170532Z
UID:2927-1762707600-1762707600@www.themanchurch.com
SUMMARY:Man Church - Mt. Zion Baptist Church\, Alexandria \, AL - Rick Burgess
DESCRIPTION:Come early at 4:00 PM for chili in the CLC! \n– There are only 500 seats\, sign up TODAY! \n– Tickets are $5
URL:https://www.themanchurch.com/event/man-church-mt-zion-baptist-church-alexandria-al-rick-burgess/
LOCATION:Mt. Zion Baptist Church\, 101 Mt Zion Church Road\, Alexandria\, 36250\, United States
END:VEVENT
BEGIN:VEVENT
DTSTART;TZID=UTC:20251113T183000
DTEND;TZID=UTC:20251113T210000
DTSTAMP:20260425T200224
CREATED:20250930T111303Z
LAST-MODIFIED:20250930T111303Z
UID:2944-1763058600-1763067600@www.themanchurch.com
SUMMARY:Men's Conference\, part of the Man Church Curriculum - William's Auditorium\, Henderson\, TN - Scott Dawson & Tony Cooper
DESCRIPTION:Men’s Conference\, part of the Man Church Curriculum.  $11 \nAny questions please email ejones@eandtcontracting.com \n 
URL:https://www.themanchurch.com/event/man-church-williams-auditorium-henderson-tn-scott-dawson-tony-cooper/
LOCATION:William’s Auditorium\, 634 E Main St\, Henderson\, TN\, 38340\, United States
END:VEVENT
BEGIN:VEVENT
DTSTART;TZID=UTC:20251120T173000
DTEND;TZID=UTC:20251120T173000
DTSTAMP:20260425T200224
CREATED:20251021T104810Z
LAST-MODIFIED:20251021T104810Z
UID:2981-1763659800-1763659800@www.themanchurch.com
SUMMARY:Man Church - Valleydale Church\, Birmingham\, AL - Rick Burgess
DESCRIPTION:Chili cook off starts at 5:30  service to follow.\nFree event.  Valleydale.org/events to register
URL:https://www.themanchurch.com/event/man-church-valleydale-church-birminghaml-al-rick-burgess/
LOCATION:Valleydale Church\, 2324 Valleydale Road\, Birmingham\, AL\, 35244\, United States
END:VEVENT
END:VCALENDAR