BEGIN:VCALENDAR
VERSION:2.0
PRODID:-//The Man Church - ECPv6.2.6.1//NONSGML v1.0//EN
CALSCALE:GREGORIAN
METHOD:PUBLISH
X-WR-CALNAME:The Man Church
X-ORIGINAL-URL:https://www.themanchurch.com
X-WR-CALDESC:Events for The Man Church
REFRESH-INTERVAL;VALUE=DURATION:PT1H
X-Robots-Tag:noindex
X-PUBLISHED-TTL:PT1H
BEGIN:VTIMEZONE
TZID:UTC
BEGIN:STANDARD
TZOFFSETFROM:+0000
TZOFFSETTO:+0000
TZNAME:UTC
DTSTART:20250101T000000
END:STANDARD
END:VTIMEZONE
BEGIN:VEVENT
DTSTART;TZID=UTC:20251004T090000
DTEND;TZID=UTC:20251004T090000
DTSTAMP:20260425T182430
CREATED:20250205T130644Z
LAST-MODIFIED:20250205T130644Z
UID:2816-1759568400-1759568400@www.themanchurch.com
SUMMARY:Man Church - West Mobile Baptist Church\, Mobile\, AL - Andy Blanks
DESCRIPTION:
URL:https://www.themanchurch.com/event/man-church-west-mobile-baptist-church-mobile-al-andy-blanks-2/
LOCATION:West Mobile Baptist Church\, 7501 Airport Blvd\, Mobile\, AL\, 36608\, United States
END:VEVENT
BEGIN:VEVENT
DTSTART;TZID=UTC:20251004T180000
DTEND;TZID=UTC:20251004T180000
DTSTAMP:20260425T182430
CREATED:20250818T104856Z
LAST-MODIFIED:20250818T104856Z
UID:2909-1759600800-1759600800@www.themanchurch.com
SUMMARY:Man Church - Sand Spring Baptist Church\, Lawrenceburg\, KY - Dave Earley
DESCRIPTION:Free meal @ 6pm with Service @ 6:45pm
URL:https://www.themanchurch.com/event/man-church-sand-spring-baptist-church-lawrenceburg-ky-dave-earley/
LOCATION:Sand Spring Baptist Church\, 1616 Harrodsburg\, Lawrenceburg\, KY\, 40342\, United States
END:VEVENT
BEGIN:VEVENT
DTSTART;TZID=UTC:20251005T180000
DTEND;TZID=UTC:20251005T193000
DTSTAMP:20260425T182430
CREATED:20241129T150057Z
LAST-MODIFIED:20241129T150057Z
UID:2779-1759687200-1759692600@www.themanchurch.com
SUMMARY:Man Church - Troy First Baptist Church\, Troy\, TN - Rick Burgess
DESCRIPTION:
URL:https://www.themanchurch.com/event/man-church-troy-first-baptist-church-troy-tn-rick-burgess-2/
LOCATION:Troy First Baptist Church\, 519 East Harper Street\, Troy\, TN\, 38260\, United States
END:VEVENT
BEGIN:VEVENT
DTSTART;TZID=UTC:20251011T173000
DTEND;TZID=UTC:20251011T173000
DTSTAMP:20260425T182430
CREATED:20250718T123357Z
LAST-MODIFIED:20251001T102256Z
UID:2888-1760203800-1760203800@www.themanchurch.com
SUMMARY:Man Church -  First Presbyterian Church\, West Point\, MS - Steve Wright
DESCRIPTION:5:30pm Meal followed by 7:00pm Worship and speaker Steve Wright
URL:https://www.themanchurch.com/event/man-church-first-presbyterian-church-west-point-ms-steve-wright/
LOCATION:First Presbyterian Church\, 354 East Street\, West Point\, MS\, 39773\, United States
END:VEVENT
BEGIN:VEVENT
DTSTART;TZID=UTC:20251018T070000
DTEND;TZID=UTC:20251018T100000
DTSTAMP:20260425T182430
CREATED:20250930T105106Z
LAST-MODIFIED:20250930T105106Z
UID:2942-1760770800-1760781600@www.themanchurch.com
SUMMARY:Man Church Breakfast - Cross Point COC\, Florence \, AL - Tim Ashley
DESCRIPTION:Doors open at 7am and breakfast will begin at 7:30am and will wrap up at 10am.  A $5.00 donation is appreciated.
URL:https://www.themanchurch.com/event/man-church-cross-point-coc-florence-al-tim-ashley/
LOCATION:Cross Point COC\, 350 Cox Creek Pkwy\, Florence\, AL\, 35633\, United States
END:VEVENT
BEGIN:VEVENT
DTSTART;TZID=UTC:20251019T180000
DTEND;TZID=UTC:20251019T180000
DTSTAMP:20260425T182430
CREATED:20250818T152619Z
LAST-MODIFIED:20251006T091815Z
UID:2911-1760896800-1760896800@www.themanchurch.com
SUMMARY:Man Church - East Highland Baptist Church\, Hartselle\, AL - Lee Moore
DESCRIPTION:
URL:https://www.themanchurch.com/event/man-church-east-highland-baptist-church-hartselle-al-lee-moore/
LOCATION:East Highland Baptist Church\, 1030 Main St E\, Hartselle\, 35640\, United States
END:VEVENT
BEGIN:VEVENT
DTSTART;TZID=UTC:20251026T170000
DTEND;TZID=UTC:20251026T170000
DTSTAMP:20260425T182430
CREATED:20250324T165228Z
LAST-MODIFIED:20250324T165228Z
UID:2832-1761498000-1761498000@www.themanchurch.com
SUMMARY:Man Church - Brownsboro Baptist Church\, Brownsboro \, AL - Bryan Gunn
DESCRIPTION:
URL:https://www.themanchurch.com/event/man-church-brownsboro-baptist-church-al-bryan-gunn/
LOCATION:Brownsboro Baptist Church\, 4315 US-72 E\, Brownsboro\, AL\, 35741\, United States
END:VEVENT
END:VCALENDAR