BEGIN:VCALENDAR
VERSION:2.0
PRODID:-//The Man Church - ECPv6.2.6.1//NONSGML v1.0//EN
CALSCALE:GREGORIAN
METHOD:PUBLISH
X-WR-CALNAME:The Man Church
X-ORIGINAL-URL:https://www.themanchurch.com
X-WR-CALDESC:Events for The Man Church
REFRESH-INTERVAL;VALUE=DURATION:PT1H
X-Robots-Tag:noindex
X-PUBLISHED-TTL:PT1H
BEGIN:VTIMEZONE
TZID:UTC
BEGIN:STANDARD
TZOFFSETFROM:+0000
TZOFFSETTO:+0000
TZNAME:UTC
DTSTART:20250101T000000
END:STANDARD
END:VTIMEZONE
BEGIN:VEVENT
DTSTART;TZID=UTC:20250607T163000
DTEND;TZID=UTC:20250608T120000
DTSTAMP:20260425T155004
CREATED:20250416T092033Z
LAST-MODIFIED:20250521T114207Z
UID:2837-1749313800-1749384000@www.themanchurch.com
SUMMARY:Man Church - First Baptist Church\, Seminole\, TX - Rick Burgess
DESCRIPTION:June 7th\, Man Church event with Rick Burgess. The festivities will be starting at 4:30pm\, followed by a feast at 6:00pm.\nJune 8th\, Rick will be speaking at both services at 9:00 & 10:30am.
URL:https://www.themanchurch.com/event/man-church-first-baptist-church-seminole-tx-rick-burgess/
LOCATION:First Baptist Church Seminole Texas\, 202 SW Ave B\, Seminole\, TX\, 79360\, United States
END:VEVENT
BEGIN:VEVENT
DTSTART;TZID=UTC:20250614T080000
DTEND;TZID=UTC:20250614T100000
DTSTAMP:20260425T155004
CREATED:20250205T173439Z
LAST-MODIFIED:20250205T173439Z
UID:2818-1749888000-1749895200@www.themanchurch.com
SUMMARY:Man Church Men's Breakfast - Valleydale Church\, Birmingham\, AL - Jared Hudson
DESCRIPTION:
URL:https://www.themanchurch.com/event/man-church-mens-breakfast-valleydale-church-birmingham-al-jared-hudson/
LOCATION:Valleydale Church\, 2324 Valleydale Road\, Birmingham\, AL\, 35244\, United States
END:VEVENT
BEGIN:VEVENT
DTSTART;TZID=UTC:20250621T180000
DTEND;TZID=UTC:20250621T180000
DTSTAMP:20260425T155004
CREATED:20241129T131526Z
LAST-MODIFIED:20250529T155303Z
UID:2769-1750528800-1750528800@www.themanchurch.com
SUMMARY:Man Church - Park Place Baptist Church\, Pearl\, MS - Rick Burgess
DESCRIPTION:
URL:https://www.themanchurch.com/event/man-church-park-place-baptist-church-pearl-ms-rick-burgess/
LOCATION:Park Place Baptist Church\, 5701 Hwy 80 East\, Pearl\, MS\, 39208\, United States
END:VEVENT
BEGIN:VEVENT
DTSTART;TZID=UTC:20250628T160000
DTEND;TZID=UTC:20250628T160000
DTSTAMP:20260425T155004
CREATED:20250506T182841Z
LAST-MODIFIED:20250609T092452Z
UID:2846-1751126400-1751126400@www.themanchurch.com
SUMMARY:Man Church - Florence Baptist Temple\, Burlington\, KY - Bryan Dawson
DESCRIPTION:
URL:https://www.themanchurch.com/event/man-church-florence-baptist-temple-burlington-ky-bryan-dawson/
LOCATION:Florence Baptist Temple\, 1898 Florence Pike\, Burlington\, KY\, 41005\, United States
END:VEVENT
END:VCALENDAR