BEGIN:VCALENDAR
VERSION:2.0
PRODID:-//The Man Church - ECPv6.2.6.1//NONSGML v1.0//EN
CALSCALE:GREGORIAN
METHOD:PUBLISH
X-ORIGINAL-URL:https://www.themanchurch.com
X-WR-CALDESC:Events for The Man Church
REFRESH-INTERVAL;VALUE=DURATION:PT1H
X-Robots-Tag:noindex
X-PUBLISHED-TTL:PT1H
BEGIN:VTIMEZONE
TZID:UTC
BEGIN:STANDARD
TZOFFSETFROM:+0000
TZOFFSETTO:+0000
TZNAME:UTC
DTSTART:20250101T000000
END:STANDARD
END:VTIMEZONE
BEGIN:VEVENT
DTSTART;TZID=UTC:20250502T170000
DTEND;TZID=UTC:20250503T123000
DTSTAMP:20260425T141411
CREATED:20241202T181421Z
LAST-MODIFIED:20250331T111906Z
UID:2783-1746205200-1746275400@www.themanchurch.com
SUMMARY:Man Church - Westside Church\, Omaha\, NE - Rick Burgess & Blake Prime
DESCRIPTION:May 2- 5pm – 8pm and May 3- 8:30am- 12:30pm\, Cost to the event $50\, and scholarship assistance is available
URL:https://www.themanchurch.com/event/man-church-westside-church-omaha-ne-rick-burgess-blake-prime/
LOCATION:Westside Church\, 15050 West Dodge Road\, Omaha\, NE\, 68154\, United States
END:VEVENT
BEGIN:VEVENT
DTSTART;TZID=UTC:20250503T170000
DTEND;TZID=UTC:20250503T170000
DTSTAMP:20260425T141411
CREATED:20250205T125037Z
LAST-MODIFIED:20250228T123306Z
UID:2811-1746291600-1746291600@www.themanchurch.com
SUMMARY:Man Church - West Mobile Baptist Church\, Mobile\, AL - Scott Gurosky
DESCRIPTION:
URL:https://www.themanchurch.com/event/man-church-west-mobile-baptist-church-mobile-al-scott-gurosky/
LOCATION:West Mobile Baptist Church\, 7501 Airport Blvd\, Mobile\, AL\, 36608\, United States
END:VEVENT
BEGIN:VEVENT
DTSTART;TZID=UTC:20250513T063000
DTEND;TZID=UTC:20250513T063000
DTSTAMP:20260425T141411
CREATED:20250506T183801Z
LAST-MODIFIED:20250506T183801Z
UID:2849-1747117800-1747117800@www.themanchurch.com
SUMMARY:Men's Breakfast- First Baptist Church Lafayette\, Lafayette\, LA - Andy Blanks
DESCRIPTION:
URL:https://www.themanchurch.com/event/man-church-first-baptist-church-lafayette-lafayette-la-andy-blanks/
LOCATION:First Baptist Church Lafayette\, 1100 Lee Ave\, Lafayette\, LA\, 70501\, United States
END:VEVENT
BEGIN:VEVENT
DTSTART;TZID=UTC:20250517T110000
DTEND;TZID=UTC:20250517T110000
DTSTAMP:20260425T141411
CREATED:20241129T144339Z
LAST-MODIFIED:20241129T144339Z
UID:2776-1747479600-1747479600@www.themanchurch.com
SUMMARY:Man Church - Prattville First Methodist Church\, Prattville\, AL - Rick Burgess
DESCRIPTION:
URL:https://www.themanchurch.com/event/man-church-prattville-first-methodist-church-prattville-al-rick-burgess-2/
LOCATION:Prattville First Methodist Church\, 100 E 4th St\, Prattville\, AL\, 36067\, United States
END:VEVENT
END:VCALENDAR