BEGIN:VCALENDAR
VERSION:2.0
PRODID:-//The Man Church - ECPv6.2.6.1//NONSGML v1.0//EN
CALSCALE:GREGORIAN
METHOD:PUBLISH
X-WR-CALNAME:The Man Church
X-ORIGINAL-URL:https://www.themanchurch.com
X-WR-CALDESC:Events for The Man Church
REFRESH-INTERVAL;VALUE=DURATION:PT1H
X-Robots-Tag:noindex
X-PUBLISHED-TTL:PT1H
BEGIN:VTIMEZONE
TZID:UTC
BEGIN:STANDARD
TZOFFSETFROM:+0000
TZOFFSETTO:+0000
TZNAME:UTC
DTSTART:20250101T000000
END:STANDARD
END:VTIMEZONE
BEGIN:VEVENT
DTSTART;TZID=UTC:20250426T184500
DTEND;TZID=UTC:20250427T120000
DTSTAMP:20260425T123848
CREATED:20250120T172101Z
LAST-MODIFIED:20250120T172101Z
UID:2797-1745693100-1745755200@www.themanchurch.com
SUMMARY:Man Church - Sand Spring Baptist Church\, Lawrenceburg\, KY - Andy Blanks
DESCRIPTION:Andy will speak Saturday\, April 26 @ 6:45pm & two services Sunday\, April 27 @ 8:45am and 11am
URL:https://www.themanchurch.com/event/man-church-sand-spring-baptist-church-lawrenceburg-ky-andy-blanks/
LOCATION:Sand Spring Baptist Church\, 1616 Harrodsburg\, Lawrenceburg\, KY\, 40342\, United States
END:VEVENT
END:VCALENDAR