BEGIN:VCALENDAR
VERSION:2.0
PRODID:-//The Man Church - ECPv6.2.6.1//NONSGML v1.0//EN
CALSCALE:GREGORIAN
METHOD:PUBLISH
X-WR-CALNAME:The Man Church
X-ORIGINAL-URL:https://www.themanchurch.com
X-WR-CALDESC:Events for The Man Church
REFRESH-INTERVAL;VALUE=DURATION:PT1H
X-Robots-Tag:noindex
X-PUBLISHED-TTL:PT1H
BEGIN:VTIMEZONE
TZID:UTC
BEGIN:STANDARD
TZOFFSETFROM:+0000
TZOFFSETTO:+0000
TZNAME:UTC
DTSTART:20230101T000000
END:STANDARD
END:VTIMEZONE
BEGIN:VEVENT
DTSTART;VALUE=DATE:20240406
DTEND;VALUE=DATE:20240407
DTSTAMP:20260421T091118
CREATED:20231016T222147Z
LAST-MODIFIED:20231016T222147Z
UID:2346-1712361600-1712447999@www.themanchurch.com
SUMMARY:Man Church - West Mobile Baptist Church\, Mobile\, AL - Andy Blanks
DESCRIPTION:
URL:https://www.themanchurch.com/event/man-church-west-mobile-baptist-church-mobile-al-andy-blanks/
LOCATION:GA
END:VEVENT
BEGIN:VEVENT
DTSTART;VALUE=DATE:20240314
DTEND;VALUE=DATE:20240315
DTSTAMP:20260421T091118
CREATED:20240120T184350Z
LAST-MODIFIED:20240120T184350Z
UID:2458-1710374400-1710460799@www.themanchurch.com
SUMMARY:Man Church - Old Friendship Baptist Church\, Finger\, TN - Bryan Dawson
DESCRIPTION:
URL:https://www.themanchurch.com/event/man-church-old-friendship-baptist-church-finger-tn-bryan-dawson/
LOCATION:GA
END:VEVENT
BEGIN:VEVENT
DTSTART;VALUE=DATE:20240310
DTEND;VALUE=DATE:20240311
DTSTAMP:20260421T091118
CREATED:20231128T123032Z
LAST-MODIFIED:20231128T123100Z
UID:2416-1710028800-1710115199@www.themanchurch.com
SUMMARY:Man Church - Nazareth Baptist Church\, Rainsville\, AL - Rick Burgess
DESCRIPTION:
URL:https://www.themanchurch.com/event/man-church-nazareth-baptist-church-rainsville-al-rick-burgess/
LOCATION:GA
END:VEVENT
BEGIN:VEVENT
DTSTART;VALUE=DATE:20240308
DTEND;VALUE=DATE:20240309
DTSTAMP:20260421T091118
CREATED:20240219T222204Z
LAST-MODIFIED:20240219T222204Z
UID:2488-1709856000-1709942399@www.themanchurch.com
SUMMARY:Man Church - Seddon Baptist Church\, Pell City\, Al - Lance Ingram
DESCRIPTION:
URL:https://www.themanchurch.com/event/man-church-seddon-baptist-church-pell-city-al-lance-ingram/
LOCATION:Seddon Baptist Church\, 4205 Cogswell Ave\, Pell City\, Al\, 35125\, United States
END:VEVENT
BEGIN:VEVENT
DTSTART;VALUE=DATE:20240308
DTEND;VALUE=DATE:20240309
DTSTAMP:20260421T091118
CREATED:20231016T224006Z
LAST-MODIFIED:20231016T224141Z
UID:2356-1709856000-1709942399@www.themanchurch.com
SUMMARY:Man Church Conference 2024 - Starkville\, MS
DESCRIPTION:
URL:https://www.themanchurch.com/event/man-church-conference-2024-starkville-ms/
LOCATION:GA
END:VEVENT
BEGIN:VEVENT
DTSTART;VALUE=DATE:20240307
DTEND;VALUE=DATE:20240308
DTSTAMP:20260421T091118
CREATED:20231128T133128Z
LAST-MODIFIED:20231128T133128Z
UID:2423-1709769600-1709855999@www.themanchurch.com
SUMMARY:Man Church - First Baptist Church Crestview\, Crestview FL - Kevin Derryberry
DESCRIPTION:
URL:https://www.themanchurch.com/event/man-church-first-baptist-church-crestview-crestview-fl-kevin-derryberry/
LOCATION:GA
END:VEVENT
BEGIN:VEVENT
DTSTART;TZID=UTC:20240225T170000
DTEND;TZID=UTC:20240225T170000
DTSTAMP:20260421T091118
CREATED:20240211T155702Z
LAST-MODIFIED:20240211T183732Z
UID:2480-1708880400-1708880400@www.themanchurch.com
SUMMARY:Man Church - First Baptist Church of Tuscaloosa\, Tuscaloosa\, AL - Scott Dawson
DESCRIPTION:
URL:https://www.themanchurch.com/event/man-church-first-baptist-church-tuscaloosa-al-scott-dawson/
LOCATION:First Baptist Church of Tuscaloosa\, 721 Greensboro Ave\, Tuscaloosa\, AL\, 35401\, United States
END:VEVENT
BEGIN:VEVENT
DTSTART;VALUE=DATE:20240225
DTEND;VALUE=DATE:20240226
DTSTAMP:20260421T091118
CREATED:20231201T121836Z
LAST-MODIFIED:20231201T121836Z
UID:2433-1708819200-1708905599@www.themanchurch.com
SUMMARY:Man Church - FBC Tallassee\, Tallassee\, AL - Tony Cooper
DESCRIPTION:
URL:https://www.themanchurch.com/event/man-church-fbc-tallassee-tallassee-al-tony-cooper/
LOCATION:GA
END:VEVENT
BEGIN:VEVENT
DTSTART;VALUE=DATE:20240225
DTEND;VALUE=DATE:20240226
DTSTAMP:20260421T091118
CREATED:20231121T122714Z
LAST-MODIFIED:20231121T122714Z
UID:2413-1708819200-1708905599@www.themanchurch.com
SUMMARY:Man Church - Twickenham Church\, Huntsville\, AL - Bryan Gunn
DESCRIPTION:
URL:https://www.themanchurch.com/event/man-church-twickenham-church-huntsville-al-bryan-gunn/
LOCATION:GA
END:VEVENT
BEGIN:VEVENT
DTSTART;VALUE=DATE:20240225
DTEND;VALUE=DATE:20240226
DTSTAMP:20260421T091118
CREATED:20231016T222009Z
LAST-MODIFIED:20231016T222009Z
UID:2344-1708819200-1708905599@www.themanchurch.com
SUMMARY:Man Church - FBC Webster\, Webster\, FL - Blake Prime
DESCRIPTION:
URL:https://www.themanchurch.com/event/man-church-fbc-webster-webster-fl-blake-prime/
LOCATION:GA
END:VEVENT
BEGIN:VEVENT
DTSTART;VALUE=DATE:20240224
DTEND;VALUE=DATE:20240225
DTSTAMP:20260421T091118
CREATED:20231027T105314Z
LAST-MODIFIED:20231027T105314Z
UID:2371-1708732800-1708819199@www.themanchurch.com
SUMMARY:Man Church - Boones Chapel Baptist Church\, Prattville\, AL - Lee Moore
DESCRIPTION:
URL:https://www.themanchurch.com/event/man-church-boones-chapel-baptist-church-prattville-al-lee-moore/
LOCATION:GA
END:VEVENT
BEGIN:VEVENT
DTSTART;VALUE=DATE:20240216
DTEND;VALUE=DATE:20240217
DTSTAMP:20260421T091118
CREATED:20231016T223542Z
LAST-MODIFIED:20231016T223542Z
UID:2354-1708041600-1708127999@www.themanchurch.com
SUMMARY:Man Church Conference 2024 - Birmingham\, AL
DESCRIPTION:
URL:https://www.themanchurch.com/event/man-church-conference-2024-birmingham-al/
LOCATION:GA
END:VEVENT
BEGIN:VEVENT
DTSTART;VALUE=DATE:20240208
DTEND;VALUE=DATE:20240209
DTSTAMP:20260421T091118
CREATED:20231016T221823Z
LAST-MODIFIED:20231016T221823Z
UID:2342-1707350400-1707436799@www.themanchurch.com
SUMMARY:Man Church - FBC Opelika\, Opelika\, AL - Todd Jones
DESCRIPTION:
URL:https://www.themanchurch.com/event/man-church-fbc-opelika-opelika-al-todd-jones/
LOCATION:GA
END:VEVENT
BEGIN:VEVENT
DTSTART;VALUE=DATE:20240127
DTEND;VALUE=DATE:20240128
DTSTAMP:20260421T091118
CREATED:20240108T133632Z
LAST-MODIFIED:20240108T133632Z
UID:2450-1706313600-1706399999@www.themanchurch.com
SUMMARY:Man Church Kickoff - Cross Point Church of Christ\, Florence\, AL
DESCRIPTION:
URL:https://www.themanchurch.com/event/man-church-kickoff-cross-point-church-of-christ-florence-al/
LOCATION:GA
END:VEVENT
BEGIN:VEVENT
DTSTART;VALUE=DATE:20240118
DTEND;VALUE=DATE:20240119
DTSTAMP:20260421T091118
CREATED:20240112T122734Z
LAST-MODIFIED:20240112T122734Z
UID:2452-1705536000-1705622399@www.themanchurch.com
SUMMARY:Man Church - First Baptist Church Nashville\, Nashville\, GA - Rich Wingo
DESCRIPTION:
URL:https://www.themanchurch.com/event/man-church-first-baptist-church-nashville-nashville-ga-rich-wingo/
LOCATION:GA
END:VEVENT
BEGIN:VEVENT
DTSTART;VALUE=DATE:20240114
DTEND;VALUE=DATE:20240115
DTSTAMP:20260421T091118
CREATED:20240104T110641Z
LAST-MODIFIED:20240104T111010Z
UID:2447-1705190400-1705276799@www.themanchurch.com
SUMMARY:Man Church Kickoff - First Baptist Church Moody\, Moody\, AL
DESCRIPTION:
URL:https://www.themanchurch.com/event/man-church-kickoff-first-baptist-church-moody-moody-al/
LOCATION:GA
END:VEVENT
BEGIN:VEVENT
DTSTART;VALUE=DATE:20240111
DTEND;VALUE=DATE:20240112
DTSTAMP:20260421T091118
CREATED:20231204T132605Z
LAST-MODIFIED:20231204T132605Z
UID:2437-1704931200-1705017599@www.themanchurch.com
SUMMARY:Man Church - Hope Hull Community Church\, Hope Hull\, AL - Kevin Derryberry
DESCRIPTION:
URL:https://www.themanchurch.com/event/man-church-hope-hull-community-church-hope-hull-al-kevin-derryberry/
LOCATION:GA
END:VEVENT
BEGIN:VEVENT
DTSTART;VALUE=DATE:20240111
DTEND;VALUE=DATE:20240112
DTSTAMP:20260421T091118
CREATED:20231019T111727Z
LAST-MODIFIED:20231205T151019Z
UID:2362-1704931200-1705017599@www.themanchurch.com
SUMMARY:Man Church - Ridgecrest Baptist Church\, Dothan\, AL - Rick Burgess
DESCRIPTION:
URL:https://www.themanchurch.com/event/man-church-ridgecrest-baptist-church-mobile-al-rick-burgess/
LOCATION:GA
END:VEVENT
BEGIN:VEVENT
DTSTART;VALUE=DATE:20240107
DTEND;VALUE=DATE:20240108
DTSTAMP:20260421T091118
CREATED:20231114T150959Z
LAST-MODIFIED:20231114T151024Z
UID:2378-1704585600-1704671999@www.themanchurch.com
SUMMARY:Man Church - Liberty Hill Baptist Church\, Clanton\, AL - Lance Ingram
DESCRIPTION:
URL:https://www.themanchurch.com/event/man-church-liberty-hill-baptist-church-clanton-al-lance-ingram/
LOCATION:GA
END:VEVENT
BEGIN:VEVENT
DTSTART;VALUE=DATE:20231202
DTEND;VALUE=DATE:20231203
DTSTAMP:20260421T091118
CREATED:20231019T104815Z
LAST-MODIFIED:20231019T111403Z
UID:2358-1701475200-1701561599@www.themanchurch.com
SUMMARY:Man Church - Government St Baptist Church\, Mobile\, AL - Bryan Dawson
DESCRIPTION:
URL:https://www.themanchurch.com/event/man-church-government-st-baptist-church-mobile-al-bryan-gunn/
LOCATION:GA
END:VEVENT
BEGIN:VEVENT
DTSTART;VALUE=DATE:20231201
DTEND;VALUE=DATE:20231202
DTSTAMP:20260421T091118
CREATED:20230913T113330Z
LAST-MODIFIED:20230913T113330Z
UID:2320-1701388800-1701475199@www.themanchurch.com
SUMMARY:Daring Faith Conference: An Evening with the Promise Keepers\, New York City\, NY - Rick Burgess
DESCRIPTION:
URL:https://www.themanchurch.com/event/daring-faith-conference-an-evening-with-the-promise-keepers-new-york-city-ny-rick-burgess/
LOCATION:GA
END:VEVENT
BEGIN:VEVENT
DTSTART;VALUE=DATE:20231130
DTEND;VALUE=DATE:20231201
DTSTAMP:20260421T091118
CREATED:20231128T134539Z
LAST-MODIFIED:20231128T134539Z
UID:2431-1701302400-1701388799@www.themanchurch.com
SUMMARY:Man Church Kickoff - Glynwood Baptist Church\, Prattville\, AL - Video Message (Rick Burgess)
DESCRIPTION:
URL:https://www.themanchurch.com/event/man-church-kickoff-glynwood-baptist-church-prattville-al-video-message-rick-burgess/
LOCATION:GA
END:VEVENT
BEGIN:VEVENT
DTSTART;VALUE=DATE:20231109
DTEND;VALUE=DATE:20231110
DTSTAMP:20260421T091118
CREATED:20230828T105122Z
LAST-MODIFIED:20230828T105122Z
UID:2310-1699488000-1699574399@www.themanchurch.com
SUMMARY:Man Church - Valleydale Church\, Birmingham\, AL - Blake Prime
DESCRIPTION:
URL:https://www.themanchurch.com/event/man-church-valleydale-church-birmingham-al-blake-prime/
LOCATION:GA
END:VEVENT
BEGIN:VEVENT
DTSTART;VALUE=DATE:20231108
DTEND;VALUE=DATE:20231109
DTSTAMP:20260421T091118
CREATED:20231102T140526Z
LAST-MODIFIED:20231102T140526Z
UID:2373-1699401600-1699487999@www.themanchurch.com
SUMMARY:Man Church - Indian Springs Church\, Indian Springs\, AL - James Spann
DESCRIPTION:
URL:https://www.themanchurch.com/event/man-church-indian-springs-church-indian-springs-al-james-spann/
LOCATION:GA
END:VEVENT
BEGIN:VEVENT
DTSTART;VALUE=DATE:20231029
DTEND;VALUE=DATE:20231030
DTSTAMP:20260421T091118
CREATED:20230907T105752Z
LAST-MODIFIED:20230907T105752Z
UID:2317-1698537600-1698623999@www.themanchurch.com
SUMMARY:Man Church - First Methodist Church Clanton\, Clanton\, AL - Rick Burgess
DESCRIPTION:
URL:https://www.themanchurch.com/event/man-church-first-methodist-church-clanton-clanton-al-rick-burgess/
LOCATION:GA
END:VEVENT
BEGIN:VEVENT
DTSTART;VALUE=DATE:20231015
DTEND;VALUE=DATE:20231016
DTSTAMP:20260421T091118
CREATED:20230726T124128Z
LAST-MODIFIED:20230727T112514Z
UID:2272-1697328000-1697414399@www.themanchurch.com
SUMMARY:Man Church - Twickenham Church\, Huntsville\, AL - Scott Dawson
DESCRIPTION:
URL:https://www.themanchurch.com/event/man-church-twickenham-church-huntsville-al-scott-dawson/
LOCATION:GA
END:VEVENT
BEGIN:VEVENT
DTSTART;VALUE=DATE:20231015
DTEND;VALUE=DATE:20231016
DTSTAMP:20260421T091118
CREATED:20230710T174650Z
LAST-MODIFIED:20231002T130153Z
UID:2256-1697328000-1697414399@www.themanchurch.com
SUMMARY:Man Church Kickoff - Rayville Arts Center\, Rayville\, LA - Rich Wingo & Blake Prime
DESCRIPTION:
URL:https://www.themanchurch.com/event/man-church-kickoff-mangham-baptist-church-mangham-la-rick-burgess-rich-wingo/
LOCATION:GA
END:VEVENT
BEGIN:VEVENT
DTSTART;VALUE=DATE:20231014
DTEND;VALUE=DATE:20231015
DTSTAMP:20260421T091118
CREATED:20221214T123726Z
LAST-MODIFIED:20221214T123752Z
UID:2161-1697241600-1697327999@www.themanchurch.com
SUMMARY:Man Church - First Baptist Church Crestview\, Crestview FL - Andy Blanks
DESCRIPTION:
URL:https://www.themanchurch.com/event/man-church-first-baptist-church-crestview-crestview-fl-andy-blanks/
LOCATION:GA
END:VEVENT
BEGIN:VEVENT
DTSTART;VALUE=DATE:20231001
DTEND;VALUE=DATE:20231002
DTSTAMP:20260421T091118
CREATED:20230822T125648Z
LAST-MODIFIED:20230822T125704Z
UID:2300-1696118400-1696204799@www.themanchurch.com
SUMMARY:Man Church - Salem Baptist Church\, Lake\, MS - Todd Jones
DESCRIPTION:
URL:https://www.themanchurch.com/event/man-church-salem-baptist-church-lake-ms-todd-jones/
LOCATION:GA
END:VEVENT
BEGIN:VEVENT
DTSTART;VALUE=DATE:20230928
DTEND;VALUE=DATE:20230929
DTSTAMP:20260421T091118
CREATED:20230825T104035Z
LAST-MODIFIED:20230825T104035Z
UID:2304-1695859200-1695945599@www.themanchurch.com
SUMMARY:Man Church - Winfield First Baptist Church\, Winfield\, AL - Tony Cooper
DESCRIPTION:
URL:https://www.themanchurch.com/event/man-church-winfield-first-baptist-church-winfield-al-tony-cooper/
LOCATION:GA
END:VEVENT
END:VCALENDAR