BEGIN:VCALENDAR
VERSION:2.0
PRODID:-//The Man Church - ECPv6.2.6.1//NONSGML v1.0//EN
CALSCALE:GREGORIAN
METHOD:PUBLISH
X-WR-CALNAME:The Man Church
X-ORIGINAL-URL:https://www.themanchurch.com
X-WR-CALDESC:Events for The Man Church
REFRESH-INTERVAL;VALUE=DURATION:PT1H
X-Robots-Tag:noindex
X-PUBLISHED-TTL:PT1H
BEGIN:VTIMEZONE
TZID:UTC
BEGIN:STANDARD
TZOFFSETFROM:+0000
TZOFFSETTO:+0000
TZNAME:UTC
DTSTART:20230101T000000
END:STANDARD
END:VTIMEZONE
BEGIN:VEVENT
DTSTART;VALUE=DATE:20230928
DTEND;VALUE=DATE:20230929
DTSTAMP:20260421T051802
CREATED:20230824T113910Z
LAST-MODIFIED:20230824T113910Z
UID:2302-1695859200-1695945599@www.themanchurch.com
SUMMARY:Man Church - Northside Baptist Church\, Jasper\, AL - Andy Blanks
DESCRIPTION:
URL:https://www.themanchurch.com/event/man-church-northside-baptist-church-jasper-al-andy-blanks/
LOCATION:AL
END:VEVENT
BEGIN:VEVENT
DTSTART;VALUE=DATE:20230924
DTEND;VALUE=DATE:20230925
DTSTAMP:20260421T051802
CREATED:20230916T122524Z
LAST-MODIFIED:20230916T122524Z
UID:2322-1695513600-1695599999@www.themanchurch.com
SUMMARY:Man Church - HopeTown Church\, Huntsville\, AL - Rich Wingo
DESCRIPTION:
URL:https://www.themanchurch.com/event/man-church-hopetown-church-huntsville-al-rich-wingo/
LOCATION:AL
END:VEVENT
BEGIN:VEVENT
DTSTART;VALUE=DATE:20230922
DTEND;VALUE=DATE:20230923
DTSTAMP:20260421T051803
CREATED:20230825T111725Z
LAST-MODIFIED:20230825T111725Z
UID:2306-1695340800-1695427199@www.themanchurch.com
SUMMARY:Man Church Weekend - Ooltewah Baptist Church\, Ooltewah TN - Andy Blanks & Lance Ingram
DESCRIPTION:
URL:https://www.themanchurch.com/event/man-church-weekend-ooltewah-baptist-church-ooltewah-tn-andy-blanks-lance-ingram/
LOCATION:AL
END:VEVENT
BEGIN:VEVENT
DTSTART;VALUE=DATE:20230910
DTEND;VALUE=DATE:20230911
DTSTAMP:20260421T051803
CREATED:20230710T175003Z
LAST-MODIFIED:20230710T175003Z
UID:2258-1694304000-1694390399@www.themanchurch.com
SUMMARY:Man Church - Ozark Baptist Church\, Ozark\, AL - Bryan Gunn
DESCRIPTION:
URL:https://www.themanchurch.com/event/man-church-ozark-baptist-church-ozark-al-bryan-gunn/
LOCATION:AL
END:VEVENT
BEGIN:VEVENT
DTSTART;VALUE=DATE:20230909
DTEND;VALUE=DATE:20230910
DTSTAMP:20260421T051803
CREATED:20221025T211356Z
LAST-MODIFIED:20221025T211356Z
UID:2139-1694217600-1694303999@www.themanchurch.com
SUMMARY:Man Church - Sand Spring Baptist Church\, Lawrenceburg KY - Rick Burgess
DESCRIPTION:
URL:https://www.themanchurch.com/event/man-church-sand-spring-baptist-church-lawrenceburg-ky-rick-burgess/
LOCATION:AL
END:VEVENT
END:VCALENDAR