BEGIN:VCALENDAR
VERSION:2.0
PRODID:-//The Man Church - ECPv6.2.6.1//NONSGML v1.0//EN
CALSCALE:GREGORIAN
METHOD:PUBLISH
X-WR-CALNAME:The Man Church
X-ORIGINAL-URL:https://www.themanchurch.com
X-WR-CALDESC:Events for The Man Church
REFRESH-INTERVAL;VALUE=DURATION:PT1H
X-Robots-Tag:noindex
X-PUBLISHED-TTL:PT1H
BEGIN:VTIMEZONE
TZID:UTC
BEGIN:STANDARD
TZOFFSETFROM:+0000
TZOFFSETTO:+0000
TZNAME:UTC
DTSTART:20260101T000000
END:STANDARD
END:VTIMEZONE
BEGIN:VEVENT
DTSTART;TZID=UTC:20260423T180000
DTEND;TZID=UTC:20260423T180000
DTSTAMP:20260423T065651
CREATED:20251020T155655Z
LAST-MODIFIED:20251020T155720Z
UID:2965-1776967200-1776967200@www.themanchurch.com
SUMMARY:Man Church - Hope Hull Community Church\, Hope Hull\, AL - Rick Burgess
DESCRIPTION:
URL:https://www.themanchurch.com/event/man-church-hope-hull-community-church-hope-hull-al-rick-burgess/
LOCATION:Hope Hull Community Church\, 305 Wasden Rd\, Hope Hull\, AL\, 36043\, United States
END:VEVENT
END:VCALENDAR