BEGIN:VCALENDAR
VERSION:2.0
PRODID:-//The Man Church - ECPv6.2.6.1//NONSGML v1.0//EN
CALSCALE:GREGORIAN
METHOD:PUBLISH
X-WR-CALNAME:The Man Church
X-ORIGINAL-URL:https://www.themanchurch.com
X-WR-CALDESC:Events for The Man Church
REFRESH-INTERVAL;VALUE=DURATION:PT1H
X-Robots-Tag:noindex
X-PUBLISHED-TTL:PT1H
BEGIN:VTIMEZONE
TZID:UTC
BEGIN:STANDARD
TZOFFSETFROM:+0000
TZOFFSETTO:+0000
TZNAME:UTC
DTSTART:20260101T000000
END:STANDARD
END:VTIMEZONE
BEGIN:VEVENT
DTSTART;TZID=UTC:20260221T170000
DTEND;TZID=UTC:20260221T170000
DTSTAMP:20260426T014456
CREATED:20251020T154505Z
LAST-MODIFIED:20260209T115308Z
UID:2960-1771693200-1771693200@www.themanchurch.com
SUMMARY:Man Church - Central Baptist Church\, Martin \, TN - Rick Burgess
DESCRIPTION:
URL:https://www.themanchurch.com/event/man-church-central-baptist-church-martin-tn-rick-burgess/
LOCATION:Central Baptist Church\, 801 Harrison Road\, Martin\, TN\, 38237\, United States
END:VEVENT
END:VCALENDAR