BEGIN:VCALENDAR
VERSION:2.0
PRODID:-//The Man Church - ECPv6.2.6.1//NONSGML v1.0//EN
CALSCALE:GREGORIAN
METHOD:PUBLISH
X-WR-CALNAME:The Man Church
X-ORIGINAL-URL:https://www.themanchurch.com
X-WR-CALDESC:Events for The Man Church
REFRESH-INTERVAL;VALUE=DURATION:PT1H
X-Robots-Tag:noindex
X-PUBLISHED-TTL:PT1H
BEGIN:VTIMEZONE
TZID:UTC
BEGIN:STANDARD
TZOFFSETFROM:+0000
TZOFFSETTO:+0000
TZNAME:UTC
DTSTART:20260101T000000
END:STANDARD
END:VTIMEZONE
BEGIN:VEVENT
DTSTART;TZID=UTC:20260207T000000
DTEND;TZID=UTC:20260208T000000
DTSTAMP:20260426T014402
CREATED:20250924T163928Z
LAST-MODIFIED:20250924T163928Z
UID:2934-1770422400-1770508800@www.themanchurch.com
SUMMARY:Marriage Conference with Rick & Sherri Burgess at Rincon Church of God in Rincon\, GA
DESCRIPTION:
URL:https://www.themanchurch.com/event/marriage-conference-withrick-sherri-burgess-rincon-church-of-god-in-rincon-ga/
LOCATION:Rincon Church of God\, 3430 GA Hwy 21 South\, Rincon\, GA\, 31326\, United States
END:VEVENT
BEGIN:VEVENT
DTSTART;TZID=UTC:20260207T170000
DTEND;TZID=UTC:20260207T200000
DTSTAMP:20260426T014402
CREATED:20260115T112046Z
LAST-MODIFIED:20260115T112046Z
UID:3012-1770483600-1770494400@www.themanchurch.com
SUMMARY:Man Church - Southside Baptist Church\, Hazlehurst\, GA - Steven Wright
DESCRIPTION:Meal at 5pm\, Worship at 6pm. Free event.  Please call the church office and reserve so they’ll have an idea on food amounts 912-375-3315
URL:https://www.themanchurch.com/event/man-church-southside-baptist-church-hazlehurst-ga-steven-wright/
LOCATION:Southside Baptist Church\, 91 S Cromartie Street\, Hazlehurst\, GA\, 31539\, United States
END:VEVENT
END:VCALENDAR