BEGIN:VCALENDAR
VERSION:2.0
PRODID:-//The Man Church - ECPv6.2.6.1//NONSGML v1.0//EN
CALSCALE:GREGORIAN
METHOD:PUBLISH
X-WR-CALNAME:The Man Church
X-ORIGINAL-URL:https://www.themanchurch.com
X-WR-CALDESC:Events for The Man Church
REFRESH-INTERVAL;VALUE=DURATION:PT1H
X-Robots-Tag:noindex
X-PUBLISHED-TTL:PT1H
BEGIN:VTIMEZONE
TZID:UTC
BEGIN:STANDARD
TZOFFSETFROM:+0000
TZOFFSETTO:+0000
TZNAME:UTC
DTSTART:20250101T000000
END:STANDARD
END:VTIMEZONE
BEGIN:VEVENT
DTSTART;TZID=UTC:20251109T170000
DTEND;TZID=UTC:20251109T170000
DTSTAMP:20260425T212255
CREATED:20250908T164932Z
LAST-MODIFIED:20250908T170532Z
UID:2927-1762707600-1762707600@www.themanchurch.com
SUMMARY:Man Church - Mt. Zion Baptist Church\, Alexandria \, AL - Rick Burgess
DESCRIPTION:Come early at 4:00 PM for chili in the CLC! \n– There are only 500 seats\, sign up TODAY! \n– Tickets are $5
URL:https://www.themanchurch.com/event/man-church-mt-zion-baptist-church-alexandria-al-rick-burgess/
LOCATION:Mt. Zion Baptist Church\, 101 Mt Zion Church Road\, Alexandria\, 36250\, United States
END:VEVENT
END:VCALENDAR