BEGIN:VCALENDAR
VERSION:2.0
PRODID:-//The Man Church - ECPv6.2.6.1//NONSGML v1.0//EN
CALSCALE:GREGORIAN
METHOD:PUBLISH
X-ORIGINAL-URL:https://www.themanchurch.com
X-WR-CALDESC:Events for The Man Church
REFRESH-INTERVAL;VALUE=DURATION:PT1H
X-Robots-Tag:noindex
X-PUBLISHED-TTL:PT1H
BEGIN:VTIMEZONE
TZID:UTC
BEGIN:STANDARD
TZOFFSETFROM:+0000
TZOFFSETTO:+0000
TZNAME:UTC
DTSTART:20250101T000000
END:STANDARD
END:VTIMEZONE
BEGIN:VEVENT
DTSTART;TZID=UTC:20251019T180000
DTEND;TZID=UTC:20251019T180000
DTSTAMP:20260425T200653
CREATED:20250818T152619Z
LAST-MODIFIED:20251006T091815Z
UID:2911-1760896800-1760896800@www.themanchurch.com
SUMMARY:Man Church - East Highland Baptist Church\, Hartselle\, AL - Lee Moore
DESCRIPTION:
URL:https://www.themanchurch.com/event/man-church-east-highland-baptist-church-hartselle-al-lee-moore/
LOCATION:East Highland Baptist Church\, 1030 Main St E\, Hartselle\, 35640\, United States
END:VEVENT
END:VCALENDAR