BEGIN:VCALENDAR
VERSION:2.0
PRODID:-//The Man Church - ECPv6.2.6.1//NONSGML v1.0//EN
CALSCALE:GREGORIAN
METHOD:PUBLISH
X-ORIGINAL-URL:https://www.themanchurch.com
X-WR-CALDESC:Events for The Man Church
REFRESH-INTERVAL;VALUE=DURATION:PT1H
X-Robots-Tag:noindex
X-PUBLISHED-TTL:PT1H
BEGIN:VTIMEZONE
TZID:UTC
BEGIN:STANDARD
TZOFFSETFROM:+0000
TZOFFSETTO:+0000
TZNAME:UTC
DTSTART:20250101T000000
END:STANDARD
END:VTIMEZONE
BEGIN:VEVENT
DTSTART;TZID=UTC:20251004T090000
DTEND;TZID=UTC:20251004T090000
DTSTAMP:20260425T200428
CREATED:20250205T130644Z
LAST-MODIFIED:20250205T130644Z
UID:2816-1759568400-1759568400@www.themanchurch.com
SUMMARY:Man Church - West Mobile Baptist Church\, Mobile\, AL - Andy Blanks
DESCRIPTION:
URL:https://www.themanchurch.com/event/man-church-west-mobile-baptist-church-mobile-al-andy-blanks-2/
LOCATION:West Mobile Baptist Church\, 7501 Airport Blvd\, Mobile\, AL\, 36608\, United States
END:VEVENT
BEGIN:VEVENT
DTSTART;TZID=UTC:20251004T180000
DTEND;TZID=UTC:20251004T180000
DTSTAMP:20260425T200428
CREATED:20250818T104856Z
LAST-MODIFIED:20250818T104856Z
UID:2909-1759600800-1759600800@www.themanchurch.com
SUMMARY:Man Church - Sand Spring Baptist Church\, Lawrenceburg\, KY - Dave Earley
DESCRIPTION:Free meal @ 6pm with Service @ 6:45pm
URL:https://www.themanchurch.com/event/man-church-sand-spring-baptist-church-lawrenceburg-ky-dave-earley/
LOCATION:Sand Spring Baptist Church\, 1616 Harrodsburg\, Lawrenceburg\, KY\, 40342\, United States
END:VEVENT
END:VCALENDAR