BEGIN:VCALENDAR
VERSION:2.0
PRODID:-//The Man Church - ECPv6.2.6.1//NONSGML v1.0//EN
CALSCALE:GREGORIAN
METHOD:PUBLISH
X-WR-CALNAME:The Man Church
X-ORIGINAL-URL:https://www.themanchurch.com
X-WR-CALDESC:Events for The Man Church
REFRESH-INTERVAL;VALUE=DURATION:PT1H
X-Robots-Tag:noindex
X-PUBLISHED-TTL:PT1H
BEGIN:VTIMEZONE
TZID:UTC
BEGIN:STANDARD
TZOFFSETFROM:+0000
TZOFFSETTO:+0000
TZNAME:UTC
DTSTART:20250101T000000
END:STANDARD
END:VTIMEZONE
BEGIN:VEVENT
DTSTART;TZID=UTC:20250823T170000
DTEND;TZID=UTC:20250823T170000
DTSTAMP:20260425T201956
CREATED:20241129T133554Z
LAST-MODIFIED:20241129T133554Z
UID:2771-1755968400-1755968400@www.themanchurch.com
SUMMARY:Man Church - Rincon Church of God\, Rincon\, GA - Rick Burgess
DESCRIPTION:
URL:https://www.themanchurch.com/event/man-church-rinson-church-of-god-rincon-ga-rick-burgess/
LOCATION:Rincon Church of God\, 3430 GA Hwy 21 South\, Rincon\, GA\, 31326\, United States
END:VEVENT
END:VCALENDAR