BEGIN:VCALENDAR
VERSION:2.0
PRODID:-//The Man Church - ECPv6.2.6.1//NONSGML v1.0//EN
CALSCALE:GREGORIAN
METHOD:PUBLISH
X-ORIGINAL-URL:https://www.themanchurch.com
X-WR-CALDESC:Events for The Man Church
REFRESH-INTERVAL;VALUE=DURATION:PT1H
X-Robots-Tag:noindex
X-PUBLISHED-TTL:PT1H
BEGIN:VTIMEZONE
TZID:UTC
BEGIN:STANDARD
TZOFFSETFROM:+0000
TZOFFSETTO:+0000
TZNAME:UTC
DTSTART:20250101T000000
END:STANDARD
END:VTIMEZONE
BEGIN:VEVENT
DTSTART;TZID=UTC:20250809T100000
DTEND;TZID=UTC:20250809T140000
DTSTAMP:20260425T202247
CREATED:20241017T151842Z
LAST-MODIFIED:20250723T164439Z
UID:2741-1754733600-1754748000@www.themanchurch.com
SUMMARY:Man Church - First Baptist Colbert Heights Forged Men's Conference\, Tuscumbia\, AL - Rich Wingo
DESCRIPTION:Forged Men’s Conference
URL:https://www.themanchurch.com/event/man-church-first-baptist-colbert-heights-tuscumbia-al-rich-wingo-2/
LOCATION:First Baptist Church of Colbert Heights\, 6000 Woodmont Dr\, Tuscumbia\, 35674\, United States
END:VEVENT
END:VCALENDAR