BEGIN:VCALENDAR
VERSION:2.0
PRODID:-//The Man Church - ECPv6.2.6.1//NONSGML v1.0//EN
CALSCALE:GREGORIAN
METHOD:PUBLISH
X-ORIGINAL-URL:https://www.themanchurch.com
X-WR-CALDESC:Events for The Man Church
REFRESH-INTERVAL;VALUE=DURATION:PT1H
X-Robots-Tag:noindex
X-PUBLISHED-TTL:PT1H
BEGIN:VTIMEZONE
TZID:UTC
BEGIN:STANDARD
TZOFFSETFROM:+0000
TZOFFSETTO:+0000
TZNAME:UTC
DTSTART:20250101T000000
END:STANDARD
END:VTIMEZONE
BEGIN:VEVENT
DTSTART;TZID=UTC:20250725T173000
DTEND;TZID=UTC:20250725T173000
DTSTAMP:20260425T184454
CREATED:20250423T153517Z
LAST-MODIFIED:20250423T153517Z
UID:2842-1753464600-1753464600@www.themanchurch.com
SUMMARY:Man Church - First Baptist Church Westpoint\, Westpoint\, MS - Scott Dawson
DESCRIPTION:Meal: 5:30\, Worship: 7:00\, Worship Music: FBC Men’s Praise Team\, Message: Scott Dawson
URL:https://www.themanchurch.com/event/man-church-first-baptist-church-westpoint-westpoint-ms-scott-dawson/
LOCATION:First Baptist Church Westpoint\, 560 E. Broad St.\, Westpoint\, MS\, 39773\, United States
END:VEVENT
END:VCALENDAR