BEGIN:VCALENDAR
VERSION:2.0
PRODID:-//The Man Church - ECPv6.2.6.1//NONSGML v1.0//EN
CALSCALE:GREGORIAN
METHOD:PUBLISH
X-ORIGINAL-URL:https://www.themanchurch.com
X-WR-CALDESC:Events for The Man Church
REFRESH-INTERVAL;VALUE=DURATION:PT1H
X-Robots-Tag:noindex
X-PUBLISHED-TTL:PT1H
BEGIN:VTIMEZONE
TZID:UTC
BEGIN:STANDARD
TZOFFSETFROM:+0000
TZOFFSETTO:+0000
TZNAME:UTC
DTSTART:20250101T000000
END:STANDARD
END:VTIMEZONE
BEGIN:VEVENT
DTSTART;TZID=UTC:20250719T120000
DTEND;TZID=UTC:20250719T120000
DTSTAMP:20260425T184456
CREATED:20250205T130243Z
LAST-MODIFIED:20250205T130243Z
UID:2814-1752926400-1752926400@www.themanchurch.com
SUMMARY:Man Church - West Mobile Baptist Church\, Mobile\, AL - Kirkwood Bullis
DESCRIPTION:
URL:https://www.themanchurch.com/event/man-church-west-mobile-baptist-church-mobile-al-kirkwood-bullis-2/
LOCATION:West Mobile Baptist Church\, 7501 Airport Blvd\, Mobile\, AL\, 36608\, United States
END:VEVENT
END:VCALENDAR