BEGIN:VCALENDAR
VERSION:2.0
PRODID:-//The Man Church - ECPv6.2.6.1//NONSGML v1.0//EN
CALSCALE:GREGORIAN
METHOD:PUBLISH
X-ORIGINAL-URL:https://www.themanchurch.com
X-WR-CALDESC:Events for The Man Church
REFRESH-INTERVAL;VALUE=DURATION:PT1H
X-Robots-Tag:noindex
X-PUBLISHED-TTL:PT1H
BEGIN:VTIMEZONE
TZID:UTC
BEGIN:STANDARD
TZOFFSETFROM:+0000
TZOFFSETTO:+0000
TZNAME:UTC
DTSTART:20250101T000000
END:STANDARD
END:VTIMEZONE
BEGIN:VEVENT
DTSTART;TZID=UTC:20250614T080000
DTEND;TZID=UTC:20250614T100000
DTSTAMP:20260425T171348
CREATED:20250205T173439Z
LAST-MODIFIED:20250205T173439Z
UID:2818-1749888000-1749895200@www.themanchurch.com
SUMMARY:Man Church Men's Breakfast - Valleydale Church\, Birmingham\, AL - Jared Hudson
DESCRIPTION:
URL:https://www.themanchurch.com/event/man-church-mens-breakfast-valleydale-church-birmingham-al-jared-hudson/
LOCATION:Valleydale Church\, 2324 Valleydale Road\, Birmingham\, AL\, 35244\, United States
END:VEVENT
END:VCALENDAR