BEGIN:VCALENDAR
VERSION:2.0
PRODID:-//The Man Church - ECPv6.2.6.1//NONSGML v1.0//EN
CALSCALE:GREGORIAN
METHOD:PUBLISH
X-ORIGINAL-URL:https://www.themanchurch.com
X-WR-CALDESC:Events for The Man Church
REFRESH-INTERVAL;VALUE=DURATION:PT1H
X-Robots-Tag:noindex
X-PUBLISHED-TTL:PT1H
BEGIN:VTIMEZONE
TZID:UTC
BEGIN:STANDARD
TZOFFSETFROM:+0000
TZOFFSETTO:+0000
TZNAME:UTC
DTSTART:20250101T000000
END:STANDARD
END:VTIMEZONE
BEGIN:VEVENT
DTSTART;TZID=UTC:20250322T183000
DTEND;TZID=UTC:20250322T183000
DTSTAMP:20260425T124044
CREATED:20250127T172428Z
LAST-MODIFIED:20250127T172428Z
UID:2801-1742668200-1742668200@www.themanchurch.com
SUMMARY:Man Church - New Hope Baptist Church\, Courtland\, AL - Rich Wingo
DESCRIPTION:The doors will open at 5:00\, Pizza will be offered at 5:30\, Worship will begin at 6:30 with Rich Wingo
URL:https://www.themanchurch.com/event/man-church-new-hope-baptist-church-courtland-al-rich-wingo/
LOCATION:New Hope Baptist Curch\, 5551 Co Rd. 284\, Courtland\, AL\, 35618\, United States
END:VEVENT
END:VCALENDAR